BEGIN:VCALENDAR
VERSION:2.0
PRODID:-//Foothills Art Center - ECPv6.15.20//NONSGML v1.0//EN
CALSCALE:GREGORIAN
METHOD:PUBLISH
X-ORIGINAL-URL:https://foothillsartcenter.org
X-WR-CALDESC:Events for Foothills Art Center
REFRESH-INTERVAL;VALUE=DURATION:PT1H
X-Robots-Tag:noindex
X-PUBLISHED-TTL:PT1H
BEGIN:VTIMEZONE
TZID:America/Denver
BEGIN:DAYLIGHT
TZOFFSETFROM:-0700
TZOFFSETTO:-0600
TZNAME:MDT
DTSTART:20250309T090000
END:DAYLIGHT
BEGIN:STANDARD
TZOFFSETFROM:-0600
TZOFFSETTO:-0700
TZNAME:MST
DTSTART:20251102T080000
END:STANDARD
BEGIN:DAYLIGHT
TZOFFSETFROM:-0700
TZOFFSETTO:-0600
TZNAME:MDT
DTSTART:20260308T090000
END:DAYLIGHT
BEGIN:STANDARD
TZOFFSETFROM:-0600
TZOFFSETTO:-0700
TZNAME:MST
DTSTART:20261101T080000
END:STANDARD
BEGIN:DAYLIGHT
TZOFFSETFROM:-0700
TZOFFSETTO:-0600
TZNAME:MDT
DTSTART:20270314T090000
END:DAYLIGHT
BEGIN:STANDARD
TZOFFSETFROM:-0600
TZOFFSETTO:-0700
TZNAME:MST
DTSTART:20271107T080000
END:STANDARD
END:VTIMEZONE
BEGIN:VEVENT
DTSTART;TZID=America/Denver:20260203T160000
DTEND;TZID=America/Denver:20260203T173000
DTSTAMP:20260421T051426
CREATED:20251117T204638Z
LAST-MODIFIED:20260206T222750Z
UID:10001674-1770134400-1770139800@foothillsartcenter.org
SUMMARY:After School Creative Club: Spring Session 1 '26
DESCRIPTION:After School Creative Club\, Ages 7-12 \nInstructor: Amanda Pfister \nDates: Every Tuesday for 6 weeks: February 3\, February 10\, February 17\, February 24\, March 3 & March 10 \nTime: Tuesdays 4:00 pm- 5:30 pm \nCost: Member $120/ Friend & Non-Member $150 \n \nCourse Description: Come join us and discover how creative thinking can be part of everyday life! In this after-school program\, we’ll explore a wide variety of art forms through fun\, hands-on projects and activities. Rather than focusing on just one medium\, students will dive into many different ways to express their ideas — from drawing and painting to sculpture\, mixed media\, and more. \nThis program is perfect for curious young artists who love to experiment\, explore\, and try it all! \n  \nContact: For any questions\, please email Amanda Pfister at amanda@foothillsartcenter.org. \n  \nPlease “login” the upper right-hand corner of this page with the email associated with your membership***
URL:https://foothillsartcenter.org/event/after-school-creative-club-spring-session-1-26/
LOCATION:Foothills Art Center – Creative Campus\, 809 Fifteenth Street\, Golden\, CO\, 80401\, United States
CATEGORIES:Youth Class
END:VEVENT
BEGIN:VEVENT
DTSTART;TZID=America/Denver:20260323T090000
DTEND;TZID=America/Denver:20260326T163000
DTSTAMP:20260421T051426
CREATED:20251117T204942Z
LAST-MODIFIED:20260328T021540Z
UID:10001681-1774256400-1774542600@foothillsartcenter.org
SUMMARY:Spring Break Art: Contemporary Inspirations (Age 7-12)
DESCRIPTION:Instructor: Amanda Pfister \nDate: Monday\, March 23\, 2026 – Thursday March 26\, 2026 \nTime: M-W- 9:00 am – 4:30 pm\, TH 9:00-3:00 pm \nLocation: 809 15th Street\, Golden\, CO 80401 \nCost: Member $320 / Friend & Non-Member $350 \n \nCourse Description: Join us for a four-day exploration of contemporary artists like Swoon\, Nick Cave\, Alma Thomas\, Andy Goldsworthy\, and more! Students will experiment with printmaking\, sculpture\, clay\, collage\, and found materials to create fun and unique works of art inspired by these incredible creators. This youth art class is all about discovery\, imagination\, and hands-on creativity!
URL:https://foothillsartcenter.org/event/spring-break-art-contemporary-inspirations-age-7-12/
LOCATION:Foothills Art Center – Creative Campus\, 809 Fifteenth Street\, Golden\, CO\, 80401\, United States
CATEGORIES:Youth Class
END:VEVENT
BEGIN:VEVENT
DTSTART;TZID=America/Denver:20260507T103000
DTEND;TZID=America/Denver:20260507T113000
DTSTAMP:20260421T051426
CREATED:20251117T204221Z
LAST-MODIFIED:20260420T193043Z
UID:10001672-1778149800-1778153400@foothillsartcenter.org
SUMMARY:May Tots & Art Thursdays
DESCRIPTION:Tots & Art Thursdays \nInstructor: Amanda Pfister \nSchedule:  Thursday\, May 7\, 2026\, 10:30-11:30 am \nLocation: Foothills Art Center Astor House\, 1133 Arapahoe St\, Golden\, CO 80401 \nCost: Free \n  \nEvent Description: \nJoin us every first Thursday of the month at Foothills Art Center’s Astor House for story time and a hands-on art activity inspired by our book of the day! This class encourages creativity\, sensory play\, and early art exploration in a fun\, welcoming environment. It’s the perfect opportunity for toddlers and their caregivers to explore art and imagination together.
URL:https://foothillsartcenter.org/event/may-tots-art-tuesdays/
LOCATION:Foothills Art Center – Astor House\, 1133 Arapahoe Street\, Golden\, CO\, 80401\, United States
CATEGORIES:Youth Class
END:VEVENT
BEGIN:VEVENT
DTSTART;TZID=America/Denver:20260604T103000
DTEND;TZID=America/Denver:20260604T113000
DTSTAMP:20260421T051426
CREATED:20260409T184118Z
LAST-MODIFIED:20260420T193059Z
UID:10001852-1780569000-1780572600@foothillsartcenter.org
SUMMARY:Art Sprouts - June
DESCRIPTION:June – Art Sprouts \nInstructor: Amanda Pfister \nSchedule: Thursday\, June 4\, 2026\, 10:30-11:30 am \nLocation: Foothills Art Center Astor House\, 1133 Arapahoe St\, Golden\, CO 80401 \nCost: Free\nPlease reserve a “Child Ticket” for each child attending; adults do not need a ticket. \nEvent Description:\nJoin us every first Thursday of the month at Foothills Art Center’s Astor House for story time\, a trip through one of our galleries\, and a hands-on art activity inspired by our book of the day! This class encourages creativity\, sensory play\, and early art exploration in a fun\, welcoming environment. It’s the perfect opportunity for toddlers and their caregivers to explore art and imagination together.
URL:https://foothillsartcenter.org/event/art-sprouts-june/
LOCATION:Foothills Art Center – Astor House\, 1133 Arapahoe Street\, Golden\, CO\, 80401\, United States
CATEGORIES:Youth Class
END:VEVENT
BEGIN:VEVENT
DTSTART;TZID=America/Denver:20260806T103000
DTEND;TZID=America/Denver:20260806T113000
DTSTAMP:20260421T051426
CREATED:20260409T183925Z
LAST-MODIFIED:20260410T203012Z
UID:10001856-1786012200-1786015800@foothillsartcenter.org
SUMMARY:Art Sprouts - August
DESCRIPTION:August – Art Sprouts \nInstructor: Amanda Pfister \nSchedule: Thursday\, August 6\, 2026\, 10:30-11:30 am \nLocation: Foothills Art Center Astor House\, 1133 Arapahoe St\, Golden\, CO 80401 \nCost: Free\nPlease reserve a “Child Ticket” for each child attending; adults do not need a ticket. \nEvent Description:\nJoin us every first Thursday of the month at Foothills Art Center’s Astor House for story time\, a trip through one of our galleries\, and a hands-on art activity inspired by our book of the day! This class encourages creativity\, sensory play\, and early art exploration in a fun\, welcoming environment. It’s the perfect opportunity for toddlers and their caregivers to explore art and imagination together.
URL:https://foothillsartcenter.org/event/art-sprouts-august/
LOCATION:Foothills Art Center – Astor House\, 1133 Arapahoe Street\, Golden\, CO\, 80401\, United States
CATEGORIES:Youth Class
END:VEVENT
END:VCALENDAR